BEGIN:VCALENDAR
VERSION:2.0
PRODID:-//WACCT.org - ECPv6.15.20//NONSGML v1.0//EN
CALSCALE:GREGORIAN
METHOD:PUBLISH
X-ORIGINAL-URL:https://www.wacct.org
X-WR-CALDESC:Events for WACCT.org
REFRESH-INTERVAL;VALUE=DURATION:PT1H
X-Robots-Tag:noindex
X-PUBLISHED-TTL:PT1H
BEGIN:VTIMEZONE
TZID:America/Denver
BEGIN:DAYLIGHT
TZOFFSETFROM:-0700
TZOFFSETTO:-0600
TZNAME:MDT
DTSTART:20250309T090000
END:DAYLIGHT
BEGIN:STANDARD
TZOFFSETFROM:-0600
TZOFFSETTO:-0700
TZNAME:MST
DTSTART:20251102T080000
END:STANDARD
BEGIN:DAYLIGHT
TZOFFSETFROM:-0700
TZOFFSETTO:-0600
TZNAME:MDT
DTSTART:20260308T090000
END:DAYLIGHT
BEGIN:STANDARD
TZOFFSETFROM:-0600
TZOFFSETTO:-0700
TZNAME:MST
DTSTART:20261101T080000
END:STANDARD
BEGIN:DAYLIGHT
TZOFFSETFROM:-0700
TZOFFSETTO:-0600
TZNAME:MDT
DTSTART:20270314T090000
END:DAYLIGHT
BEGIN:STANDARD
TZOFFSETFROM:-0600
TZOFFSETTO:-0700
TZNAME:MST
DTSTART:20271107T080000
END:STANDARD
END:VTIMEZONE
BEGIN:VEVENT
DTSTART;VALUE=DATE:20260601
DTEND;VALUE=DATE:20260603
DTSTAMP:20260421T001501
CREATED:20260409T205744Z
LAST-MODIFIED:20260409T205744Z
UID:2227-1780272000-1780444799@www.wacct.org
SUMMARY:Joint Education Committee
DESCRIPTION:
URL:https://www.wacct.org/event/joint-education-committee-june-1-2-casper/
LOCATION:Casper\, Casper\, WY\, United States
END:VEVENT
BEGIN:VEVENT
DTSTART;VALUE=DATE:20260608
DTEND;VALUE=DATE:20260610
DTSTAMP:20260421T001501
CREATED:20260409T210351Z
LAST-MODIFIED:20260409T210351Z
UID:2233-1780876800-1781049599@www.wacct.org
SUMMARY:Joint Revenue Committee
DESCRIPTION:
URL:https://www.wacct.org/event/joint-revenue-committee-june-8-9-gillette/
LOCATION:Gillette College
END:VEVENT
BEGIN:VEVENT
DTSTART;VALUE=DATE:20260812
DTEND;VALUE=DATE:20260814
DTSTAMP:20260421T001501
CREATED:20260409T205933Z
LAST-MODIFIED:20260409T205933Z
UID:2229-1786492800-1786665599@www.wacct.org
SUMMARY:Joint Education Committee
DESCRIPTION:
URL:https://www.wacct.org/event/joint-education-committee-august-12-13-casper/
LOCATION:Casper\, Casper\, WY\, United States
END:VEVENT
BEGIN:VEVENT
DTSTART;VALUE=DATE:20260831
DTEND;VALUE=DATE:20260902
DTSTAMP:20260421T001501
CREATED:20260409T210452Z
LAST-MODIFIED:20260409T210452Z
UID:2236-1788134400-1788307199@www.wacct.org
SUMMARY:Joint Revenue Committee
DESCRIPTION:
URL:https://www.wacct.org/event/joint-revenue-committee-august-31-sept-1-casper/
LOCATION:Casper\, Casper\, WY\, United States
END:VEVENT
BEGIN:VEVENT
DTSTART;VALUE=DATE:20261112
DTEND;VALUE=DATE:20261114
DTSTAMP:20260421T001501
CREATED:20260409T210539Z
LAST-MODIFIED:20260409T210539Z
UID:2238-1794441600-1794614399@www.wacct.org
SUMMARY:Joint Revenue Committee
DESCRIPTION:
URL:https://www.wacct.org/event/joint-revenue-committee-nov-12-13-cheyenne/
LOCATION:Cheyenne
END:VEVENT
BEGIN:VEVENT
DTSTART;VALUE=DATE:20261117
DTEND;VALUE=DATE:20261119
DTSTAMP:20260421T001501
CREATED:20260409T210018Z
LAST-MODIFIED:20260409T210018Z
UID:2231-1794873600-1795046399@www.wacct.org
SUMMARY:Joint Education Committee
DESCRIPTION:
URL:https://www.wacct.org/event/joint-education-committee-november-17-18/
END:VEVENT
END:VCALENDAR